BEGIN:VCALENDAR
VERSION:2.0
PRODID:-//Sabre//Sabre VObject 4.5.8//EN
CALSCALE:GREGORIAN
BEGIN:VEVENT
UID:sabre-vobject-ef7ceba1-3d78-4d2c-92f9-0762172440dc
DTSTAMP:20260421T155246Z
SUMMARY:Gymnastik bei orthopädischen Problemen - Gruppe 4
DESCRIPTION:https://keb-stadt-augsburg.de/veranstaltungen/gymnastik-bei-ort
 hopaedischen-problemen-gruppe-4_id311012
DTSTART;TZID=Europe/Berlin:20260811T180000
DTEND;TZID=Europe/Berlin:20260811T190000
LOCATION:Schulturnhalle Hochzoll Süd\, Höfatsstraße 27\, 86163 Augsburg
END:VEVENT
END:VCALENDAR
