BEGIN:VCALENDAR
VERSION:2.0
PRODID:-//Sabre//Sabre VObject 4.5.8//EN
CALSCALE:GREGORIAN
BEGIN:VEVENT
UID:sabre-vobject-ab25c050-9509-468f-a935-e3f45101d31a
DTSTAMP:20260421T052513Z
SUMMARY:Gymnastik bei orthopädischen Problemen - Gruppe 2
DESCRIPTION:https://keb-stadt-augsburg.de/veranstaltungen/gymnastik-bei-ort
 hopaedischen-problemen-gruppe-2_id310957
DTSTART;TZID=Europe/Berlin:20260715T100000
DTEND;TZID=Europe/Berlin:20260715T110000
LOCATION:DJK-Sporthalle 3\, Zwölf-Apostel-Platz 3\, 86163 Augsburg
END:VEVENT
END:VCALENDAR
