BEGIN:VCALENDAR
VERSION:2.0
PRODID:-//Sabre//Sabre VObject 4.5.8//EN
CALSCALE:GREGORIAN
BEGIN:VEVENT
UID:sabre-vobject-d3c21500-7f59-4845-b51a-ecfcfd59a42d
DTSTAMP:20260421T104157Z
SUMMARY:Sitztanz
DESCRIPTION:https://keb-stadt-augsburg.de/veranstaltungen/sitztanz_id310700
DTSTART;TZID=Europe/Berlin:20260311T143000
LOCATION:Pfarrheim\, Don-Bosco-Platz 3\, 86161 Augsburg
END:VEVENT
END:VCALENDAR
