BEGIN:VCALENDAR
VERSION:2.0
PRODID:-//Sabre//Sabre VObject 4.5.8//EN
CALSCALE:GREGORIAN
BEGIN:VEVENT
UID:sabre-vobject-f0969905-1dd0-410b-88b9-86a86452e994
DTSTAMP:20260421T090313Z
SUMMARY:Das Sheridan-Gelände und seine Entwicklung
DESCRIPTION:https://keb-stadt-augsburg.de/veranstaltungen/das-sheridan-gela
 ende-und-seine-entwicklung_id310684
DTSTART;TZID=Europe/Berlin:20260304T140000
LOCATION:Pfarrheim\, Franz-Kobinger-Straße 10\, 86157 Augsburg
END:VEVENT
END:VCALENDAR
