BEGIN:VCALENDAR
VERSION:2.0
PRODID:-//Sabre//Sabre VObject 4.5.8//EN
CALSCALE:GREGORIAN
BEGIN:VEVENT
UID:sabre-vobject-bf383f52-40b2-4732-a912-1cf7ba79b3a4
DTSTAMP:20260421T052255Z
SUMMARY:Bodyforming
DESCRIPTION:https://keb-stadt-augsburg.de/veranstaltungen/bodyforming_id309
 648
DTSTART;TZID=Europe/Berlin:20260715T183000
DTEND;TZID=Europe/Berlin:20260715T193000
LOCATION:Begegnungszentrum St. Franziskus\, Martin-Gomm-Weg 2\, 86169 Augsb
 urg
END:VEVENT
END:VCALENDAR
