BEGIN:VCALENDAR
VERSION:2.0
PRODID:-//Sabre//Sabre VObject 4.5.8//EN
CALSCALE:GREGORIAN
BEGIN:VEVENT
UID:sabre-vobject-41f25d01-5613-4c86-bb32-84953962b7b2
DTSTAMP:20260421T033720Z
SUMMARY:Bodyforming
DESCRIPTION:https://keb-stadt-augsburg.de/veranstaltungen/bodyforming_id309
 647
DTSTART;TZID=Europe/Berlin:20260708T183000
DTEND;TZID=Europe/Berlin:20260708T193000
LOCATION:Begegnungszentrum St. Franziskus\, Martin-Gomm-Weg 2\, 86169 Augsb
 urg
END:VEVENT
END:VCALENDAR
