BEGIN:VCALENDAR
VERSION:2.0
PRODID:-//Sabre//Sabre VObject 4.5.8//EN
CALSCALE:GREGORIAN
BEGIN:VEVENT
UID:sabre-vobject-82ec299f-37a5-4b5b-92a9-c55d46354833
DTSTAMP:20260420T173152Z
SUMMARY:Bodyforming
DESCRIPTION:https://keb-stadt-augsburg.de/veranstaltungen/bodyforming_id309
 643
DTSTART;TZID=Europe/Berlin:20260610T183000
DTEND;TZID=Europe/Berlin:20260610T193000
LOCATION:Begegnungszentrum St. Franziskus\, Martin-Gomm-Weg 2\, 86169 Augsb
 urg
END:VEVENT
END:VCALENDAR
