BEGIN:VCALENDAR
VERSION:2.0
PRODID:-//Sabre//Sabre VObject 4.5.8//EN
CALSCALE:GREGORIAN
BEGIN:VEVENT
UID:sabre-vobject-f4996bed-4197-4487-984a-22c1454975bd
DTSTAMP:20260420T082157Z
SUMMARY:Bodyforming
DESCRIPTION:https://keb-stadt-augsburg.de/veranstaltungen/bodyforming_id309
 642
DTSTART;TZID=Europe/Berlin:20260520T183000
DTEND;TZID=Europe/Berlin:20260520T193000
LOCATION:Begegnungszentrum St. Franziskus\, Martin-Gomm-Weg 2\, 86169 Augsb
 urg
END:VEVENT
END:VCALENDAR
