BEGIN:VCALENDAR
VERSION:2.0
PRODID:-//Sabre//Sabre VObject 4.5.8//EN
CALSCALE:GREGORIAN
BEGIN:VEVENT
UID:sabre-vobject-02616591-3603-41ae-b415-cb947b916ba9
DTSTAMP:20260420T044600Z
SUMMARY:Bodyforming
DESCRIPTION:https://keb-stadt-augsburg.de/veranstaltungen/bodyforming_id309
 638
DTSTART;TZID=Europe/Berlin:20260422T183000
DTEND;TZID=Europe/Berlin:20260422T193000
LOCATION:Begegnungszentrum St. Franziskus\, Martin-Gomm-Weg 2\, 86169 Augsb
 urg
END:VEVENT
END:VCALENDAR
