BEGIN:VCALENDAR
VERSION:2.0
PRODID:-//Sabre//Sabre VObject 4.5.8//EN
CALSCALE:GREGORIAN
BEGIN:VEVENT
UID:sabre-vobject-cdb2a01c-a869-42ab-8694-550b35a962b3
DTSTAMP:20260421T104234Z
SUMMARY:Tanzen für Erwachsene
DESCRIPTION:https://keb-stadt-augsburg.de/veranstaltungen/tanzen-fuer-erwac
 hsene_id309571
DTSTART;TZID=Europe/Berlin:20260729T164500
DTEND;TZID=Europe/Berlin:20260729T174500
LOCATION:Pfarrheim\, Franz-Kobinger-Straße 10\, 86157 Augsburg
END:VEVENT
END:VCALENDAR
