BEGIN:VCALENDAR
VERSION:2.0
PRODID:-//Sabre//Sabre VObject 4.5.8//EN
CALSCALE:GREGORIAN
BEGIN:VEVENT
UID:sabre-vobject-f8ed4eca-8411-44e6-97d4-e78db2e2db2f
DTSTAMP:20260421T002652Z
SUMMARY:Tanzen für Erwachsene
DESCRIPTION:https://keb-stadt-augsburg.de/veranstaltungen/tanzen-fuer-erwac
 hsene_id309567
DTSTART;TZID=Europe/Berlin:20260701T164500
DTEND;TZID=Europe/Berlin:20260701T174500
LOCATION:Pfarrheim\, Franz-Kobinger-Straße 10\, 86157 Augsburg
END:VEVENT
END:VCALENDAR
