BEGIN:VCALENDAR
VERSION:2.0
PRODID:-//Sabre//Sabre VObject 4.5.8//EN
CALSCALE:GREGORIAN
BEGIN:VEVENT
UID:sabre-vobject-cf6f4eb3-f85b-47e1-9720-e49f69dca65e
DTSTAMP:20260420T190636Z
SUMMARY:Tanzen für Erwachsene
DESCRIPTION:https://keb-stadt-augsburg.de/veranstaltungen/tanzen-fuer-erwac
 hsene_id309565
DTSTART;TZID=Europe/Berlin:20260617T164500
DTEND;TZID=Europe/Berlin:20260617T174500
LOCATION:Pfarrheim\, Franz-Kobinger-Straße 10\, 86157 Augsburg
END:VEVENT
END:VCALENDAR
