BEGIN:VCALENDAR
VERSION:2.0
PRODID:-//Sabre//Sabre VObject 4.5.8//EN
CALSCALE:GREGORIAN
BEGIN:VEVENT
UID:sabre-vobject-448456f0-9659-4ffd-a93f-9b6c3df39d8a
DTSTAMP:20260420T144340Z
SUMMARY:Tanzen für Erwachsene
DESCRIPTION:https://keb-stadt-augsburg.de/veranstaltungen/tanzen-fuer-erwac
 hsene_id309563
DTSTART;TZID=Europe/Berlin:20260603T164500
DTEND;TZID=Europe/Berlin:20260603T174500
LOCATION:Pfarrheim\, Franz-Kobinger-Straße 10\, 86157 Augsburg
END:VEVENT
END:VCALENDAR
