BEGIN:VCALENDAR
VERSION:2.0
PRODID:-//Sabre//Sabre VObject 4.5.8//EN
CALSCALE:GREGORIAN
BEGIN:VEVENT
UID:sabre-vobject-a323cc12-7fdb-48e7-a1b1-b775689c150e
DTSTAMP:20260421T104157Z
SUMMARY:Tanzen für Erwachsene
DESCRIPTION:https://keb-stadt-augsburg.de/veranstaltungen/tanzen-fuer-erwac
 hsene_id309558
DTSTART;TZID=Europe/Berlin:20260429T164500
DTEND;TZID=Europe/Berlin:20260429T174500
LOCATION:Pfarrheim\, Franz-Kobinger-Straße 10\, 86157 Augsburg
END:VEVENT
END:VCALENDAR
