BEGIN:VCALENDAR
VERSION:2.0
PRODID:-//Sabre//Sabre VObject 4.5.8//EN
CALSCALE:GREGORIAN
BEGIN:VEVENT
UID:sabre-vobject-1ab8961a-49cd-40b8-87e3-a773d3e0c3a8
DTSTAMP:20260422T022735Z
SUMMARY:Senioren-Funktionsgymnastik
DESCRIPTION:https://keb-stadt-augsburg.de/veranstaltungen/senioren-funktion
 sgymnastik_id309492
DTSTART;TZID=Europe/Berlin:20260909T180000
DTEND;TZID=Europe/Berlin:20260909T190000
LOCATION:Pfarrheim\, Franz-Kobinger-Straße 10\, 86157 Augsburg
END:VEVENT
END:VCALENDAR
