BEGIN:VCALENDAR
VERSION:2.0
PRODID:-//Sabre//Sabre VObject 4.5.8//EN
CALSCALE:GREGORIAN
BEGIN:VEVENT
UID:sabre-vobject-2cf3dc7e-09ca-43d6-ac8f-d0d9fe600bb0
DTSTAMP:20260421T052315Z
SUMMARY:Senioren-Funktionsgymnastik
DESCRIPTION:https://keb-stadt-augsburg.de/veranstaltungen/senioren-funktion
 sgymnastik_id309484
DTSTART;TZID=Europe/Berlin:20260715T180000
DTEND;TZID=Europe/Berlin:20260715T190000
LOCATION:Pfarrheim\, Franz-Kobinger-Straße 10\, 86157 Augsburg
END:VEVENT
END:VCALENDAR
