BEGIN:VCALENDAR
VERSION:2.0
PRODID:-//Sabre//Sabre VObject 4.5.8//EN
CALSCALE:GREGORIAN
BEGIN:VEVENT
UID:sabre-vobject-637ade50-9732-46b0-88a3-ca08c8a23cba
DTSTAMP:20260421T033741Z
SUMMARY:Senioren-Funktionsgymnastik
DESCRIPTION:https://keb-stadt-augsburg.de/veranstaltungen/senioren-funktion
 sgymnastik_id309483
DTSTART;TZID=Europe/Berlin:20260708T180000
DTEND;TZID=Europe/Berlin:20260708T190000
LOCATION:Pfarrheim\, Franz-Kobinger-Straße 10\, 86157 Augsburg
END:VEVENT
END:VCALENDAR
