BEGIN:VCALENDAR
VERSION:2.0
PRODID:-//Sabre//Sabre VObject 4.5.8//EN
CALSCALE:GREGORIAN
BEGIN:VEVENT
UID:sabre-vobject-05f955fe-8abe-4ba8-ab25-b737268b702f
DTSTAMP:20260420T144159Z
SUMMARY:Senioren-Funktionsgymnastik
DESCRIPTION:https://keb-stadt-augsburg.de/veranstaltungen/senioren-funktion
 sgymnastik_id309478
DTSTART;TZID=Europe/Berlin:20260603T180000
DTEND;TZID=Europe/Berlin:20260603T190000
LOCATION:Pfarrheim\, Franz-Kobinger-Straße 10\, 86157 Augsburg
END:VEVENT
END:VCALENDAR
