BEGIN:VCALENDAR
VERSION:2.0
PRODID:-//Sabre//Sabre VObject 4.5.8//EN
CALSCALE:GREGORIAN
BEGIN:VEVENT
UID:sabre-vobject-d8905561-7431-4626-86ab-b43e1a6b77c9
DTSTAMP:20260420T084931Z
SUMMARY:Senioren-Funktionsgymnastik
DESCRIPTION:https://keb-stadt-augsburg.de/veranstaltungen/senioren-funktion
 sgymnastik_id309476
DTSTART;TZID=Europe/Berlin:20260520T180000
DTEND;TZID=Europe/Berlin:20260520T190000
LOCATION:Pfarrheim\, Franz-Kobinger-Straße 10\, 86157 Augsburg
END:VEVENT
END:VCALENDAR
