BEGIN:VCALENDAR
VERSION:2.0
PRODID:-//Sabre//Sabre VObject 4.5.8//EN
CALSCALE:GREGORIAN
BEGIN:VEVENT
UID:sabre-vobject-cd33191c-297a-40af-85fa-608aa500492d
DTSTAMP:20260423T070409Z
SUMMARY:Bibelteilen Plus
DESCRIPTION:https://keb-stadt-augsburg.de/veranstaltungen/bibelteilen-plus_
 id309399
DTSTART;TZID=Europe/Berlin:20260603T190000
DTEND;TZID=Europe/Berlin:20260603T210000
LOCATION:Pfarrheim\, Franz-Kobinger-Straße 10\, 86157 Augsburg
END:VEVENT
END:VCALENDAR
