BEGIN:VCALENDAR
VERSION:2.0
PRODID:-//Sabre//Sabre VObject 4.5.8//EN
CALSCALE:GREGORIAN
BEGIN:VEVENT
UID:sabre-vobject-c1954e6d-869d-4e66-b406-bbb578db7e70
DTSTAMP:20260425T211459Z
SUMMARY:Ökumenisches Bibelteilen - Einführung in die Bibelexegese
DESCRIPTION:https://keb-stadt-augsburg.de/veranstaltungen/oekumenisches-bib
 elteilen-einfuehrung-in-die-bibelexegese_id309380
DTSTART;TZID=Europe/Berlin:20260609T100000
DTEND;TZID=Europe/Berlin:20260609T110000
LOCATION:Pfarrheim\, Franz-Kobinger-Straße 10\, 86157 Augsburg
END:VEVENT
END:VCALENDAR
