BEGIN:VCALENDAR
VERSION:2.0
PRODID:-//Sabre//Sabre VObject 4.5.8//EN
CALSCALE:GREGORIAN
BEGIN:VEVENT
UID:sabre-vobject-8a75a246-bdad-40b1-9304-e14ee7831b92
DTSTAMP:20260421T090156Z
SUMMARY:Ökumenisches Bibelteilen - Einführung in die Bibelexegese
DESCRIPTION:https://keb-stadt-augsburg.de/veranstaltungen/oekumenisches-bib
 elteilen-einfuehrung-in-die-bibelexegese_id309373
DTSTART;TZID=Europe/Berlin:20260210T100000
DTEND;TZID=Europe/Berlin:20260210T110000
LOCATION:Pfarrheim\, Franz-Kobinger-Straße 10\, 86157 Augsburg
END:VEVENT
END:VCALENDAR
