BEGIN:VCALENDAR
VERSION:2.0
PRODID:-//Sabre//Sabre VObject 4.5.8//EN
CALSCALE:GREGORIAN
BEGIN:VEVENT
UID:sabre-vobject-355bedb6-ab43-4f22-9292-6a12176592db
DTSTAMP:20260421T121929Z
SUMMARY:Yoga
DESCRIPTION:https://keb-stadt-augsburg.de/veranstaltungen/yoga_id299255
DTSTART;TZID=Europe/Berlin:20260803T173000
DTEND;TZID=Europe/Berlin:20260803T184500
LOCATION:Sportzentrum\, Pfarrer-Bogner-Straße 22\, 86199 Augsburg
END:VEVENT
END:VCALENDAR
