BEGIN:VCALENDAR
VERSION:2.0
PRODID:-//Sabre//Sabre VObject 4.5.8//EN
CALSCALE:GREGORIAN
BEGIN:VEVENT
UID:sabre-vobject-9542cee1-e3e1-4820-8ddb-c98cf0ccbc04
DTSTAMP:20260423T122456Z
SUMMARY:Yoga
DESCRIPTION:https://keb-stadt-augsburg.de/veranstaltungen/yoga_id299254
DTSTART;TZID=Europe/Berlin:20260727T173000
DTEND;TZID=Europe/Berlin:20260727T184500
LOCATION:Sportzentrum\, Pfarrer-Bogner-Straße 22\, 86199 Augsburg
END:VEVENT
END:VCALENDAR
