BEGIN:VCALENDAR
VERSION:2.0
PRODID:-//Sabre//Sabre VObject 4.5.8//EN
CALSCALE:GREGORIAN
BEGIN:VEVENT
UID:sabre-vobject-f747d253-5406-4ff7-ac80-9b87455cc8c6
DTSTAMP:20260421T033741Z
SUMMARY:Yoga
DESCRIPTION:https://keb-stadt-augsburg.de/veranstaltungen/yoga_id299252
DTSTART;TZID=Europe/Berlin:20260713T173000
DTEND;TZID=Europe/Berlin:20260713T184500
LOCATION:Sportzentrum\, Pfarrer-Bogner-Straße 22\, 86199 Augsburg
END:VEVENT
END:VCALENDAR
