BEGIN:VCALENDAR
VERSION:2.0
PRODID:-//Sabre//Sabre VObject 4.5.8//EN
CALSCALE:GREGORIAN
BEGIN:VEVENT
UID:sabre-vobject-ef885547-9a7b-444c-ba12-1b23c00d7ece
DTSTAMP:20260421T021633Z
SUMMARY:Yoga
DESCRIPTION:https://keb-stadt-augsburg.de/veranstaltungen/yoga_id299251
DTSTART;TZID=Europe/Berlin:20260706T173000
DTEND;TZID=Europe/Berlin:20260706T184500
LOCATION:Sportzentrum\, Pfarrer-Bogner-Straße 22\, 86199 Augsburg
END:VEVENT
END:VCALENDAR
