BEGIN:VCALENDAR
VERSION:2.0
PRODID:-//Sabre//Sabre VObject 4.5.8//EN
CALSCALE:GREGORIAN
BEGIN:VEVENT
UID:sabre-vobject-802765e1-3577-4d79-a1f0-2297e8bc2f3d
DTSTAMP:20260420T205603Z
SUMMARY:Yoga
DESCRIPTION:https://keb-stadt-augsburg.de/veranstaltungen/yoga_id299249
DTSTART;TZID=Europe/Berlin:20260622T173000
DTEND;TZID=Europe/Berlin:20260622T184500
LOCATION:Sportzentrum\, Pfarrer-Bogner-Straße 22\, 86199 Augsburg
END:VEVENT
END:VCALENDAR
