BEGIN:VCALENDAR
VERSION:2.0
PRODID:-//Sabre//Sabre VObject 4.5.8//EN
CALSCALE:GREGORIAN
BEGIN:VEVENT
UID:sabre-vobject-0eb08bdf-cfd8-44f6-83b4-e436007f3a1f
DTSTAMP:20260424T064834Z
SUMMARY:Schwung hält jung
DESCRIPTION:https://keb-stadt-augsburg.de/veranstaltungen/schwung-haelt-jun
 g_id299192
DTSTART;TZID=Europe/Berlin:20260609T100000
DTEND;TZID=Europe/Berlin:20260609T110000
LOCATION:Roncallihaus\, Klausenberg 7\, 86199 Augsburg
END:VEVENT
END:VCALENDAR
