BEGIN:VCALENDAR
VERSION:2.0
PRODID:-//Sabre//Sabre VObject 4.5.8//EN
CALSCALE:GREGORIAN
BEGIN:VEVENT
UID:sabre-vobject-34b46e2c-6c4e-403b-959f-d23261f2caac
DTSTAMP:20260422T023051Z
SUMMARY:Gymnastik bei neurologischen Erkrankungen
DESCRIPTION:https://keb-stadt-augsburg.de/veranstaltungen/gymnastik-bei-neu
 rologischen-erkrankungen_id299109
DTSTART;TZID=Europe/Berlin:20260902T153000
DTEND;TZID=Europe/Berlin:20260902T161500
LOCATION:Sportzentrum\, Pfarrer-Bogner-Straße 22\, 86199 Augsburg
END:VEVENT
END:VCALENDAR
