BEGIN:VCALENDAR
VERSION:2.0
PRODID:-//Sabre//Sabre VObject 4.5.8//EN
CALSCALE:GREGORIAN
BEGIN:VEVENT
UID:sabre-vobject-d6fea055-8897-4ea2-9b1c-e105ec215fb3
DTSTAMP:20260421T184510Z
SUMMARY:Gymnastik bei neurologischen Erkrankungen
DESCRIPTION:https://keb-stadt-augsburg.de/veranstaltungen/gymnastik-bei-neu
 rologischen-erkrankungen_id299107
DTSTART;TZID=Europe/Berlin:20260819T153000
DTEND;TZID=Europe/Berlin:20260819T161500
LOCATION:Sportzentrum\, Pfarrer-Bogner-Straße 22\, 86199 Augsburg
END:VEVENT
END:VCALENDAR
