BEGIN:VCALENDAR
VERSION:2.0
PRODID:-//Sabre//Sabre VObject 4.5.8//EN
CALSCALE:GREGORIAN
BEGIN:VEVENT
UID:sabre-vobject-5a40fd9a-8c8d-42de-a289-e08694ece1b5
DTSTAMP:20260421T054314Z
SUMMARY:Gymnastik bei neurologischen Erkrankungen
DESCRIPTION:https://keb-stadt-augsburg.de/veranstaltungen/gymnastik-bei-neu
 rologischen-erkrankungen_id299102
DTSTART;TZID=Europe/Berlin:20260715T153000
DTEND;TZID=Europe/Berlin:20260715T161500
LOCATION:Sportzentrum\, Pfarrer-Bogner-Straße 22\, 86199 Augsburg
END:VEVENT
END:VCALENDAR
