BEGIN:VCALENDAR
VERSION:2.0
PRODID:-//Sabre//Sabre VObject 4.5.8//EN
CALSCALE:GREGORIAN
BEGIN:VEVENT
UID:sabre-vobject-7925d154-cbf9-4291-a578-acaeee38d1b6
DTSTAMP:20260421T021811Z
SUMMARY:Gymnastik bei neurologischen Erkrankungen
DESCRIPTION:https://keb-stadt-augsburg.de/veranstaltungen/gymnastik-bei-neu
 rologischen-erkrankungen_id299101
DTSTART;TZID=Europe/Berlin:20260708T153000
DTEND;TZID=Europe/Berlin:20260708T161500
LOCATION:Sportzentrum\, Pfarrer-Bogner-Straße 22\, 86199 Augsburg
END:VEVENT
END:VCALENDAR
