BEGIN:VCALENDAR
VERSION:2.0
PRODID:-//Sabre//Sabre VObject 4.5.8//EN
CALSCALE:GREGORIAN
BEGIN:VEVENT
UID:sabre-vobject-8398d611-2a07-4377-a842-2c5926d7efae
DTSTAMP:20260420T025740Z
SUMMARY:Gymnastik bei neurologischen Erkrankungen
DESCRIPTION:https://keb-stadt-augsburg.de/veranstaltungen/gymnastik-bei-neu
 rologischen-erkrankungen_id299092
DTSTART;TZID=Europe/Berlin:20260506T153000
DTEND;TZID=Europe/Berlin:20260506T161500
LOCATION:Sportzentrum\, Pfarrer-Bogner-Straße 22\, 86199 Augsburg
END:VEVENT
END:VCALENDAR
