BEGIN:VCALENDAR
VERSION:2.0
PRODID:-//Sabre//Sabre VObject 4.5.8//EN
CALSCALE:GREGORIAN
BEGIN:VEVENT
UID:sabre-vobject-cb1011ee-366e-4df1-a79c-64f21e7fb705
DTSTAMP:20260421T230753Z
SUMMARY:Gymnastik bei orthopädischen Problemen-Gruppe 5
DESCRIPTION:https://keb-stadt-augsburg.de/veranstaltungen/gymnastik-bei-ort
 hopaedischen-problemen-gruppe-5_id299056
DTSTART;TZID=Europe/Berlin:20260827T201500
DTEND;TZID=Europe/Berlin:20260827T210000
LOCATION:Sportzentrum\, Pfarrer-Bogner-Straße 22\, 86199 Augsburg
END:VEVENT
END:VCALENDAR
