BEGIN:VCALENDAR
VERSION:2.0
PRODID:-//Sabre//Sabre VObject 4.5.8//EN
CALSCALE:GREGORIAN
BEGIN:VEVENT
UID:sabre-vobject-db44d721-2f63-4005-8328-eb54e697e5be
DTSTAMP:20260421T202105Z
SUMMARY:Gymnastik bei orthopädischen Problemen-Gruppe 5
DESCRIPTION:https://keb-stadt-augsburg.de/veranstaltungen/gymnastik-bei-ort
 hopaedischen-problemen-gruppe-5_id299055
DTSTART;TZID=Europe/Berlin:20260820T201500
DTEND;TZID=Europe/Berlin:20260820T210000
LOCATION:Sportzentrum\, Pfarrer-Bogner-Straße 22\, 86199 Augsburg
END:VEVENT
END:VCALENDAR
