BEGIN:VCALENDAR
VERSION:2.0
PRODID:-//Sabre//Sabre VObject 4.5.8//EN
CALSCALE:GREGORIAN
BEGIN:VEVENT
UID:sabre-vobject-5f6b34c5-be25-468e-ab55-07c327ed5efd
DTSTAMP:20260421T154601Z
SUMMARY:Gymnastik bei orthopädischen Problemen-Gruppe 5
DESCRIPTION:https://keb-stadt-augsburg.de/veranstaltungen/gymnastik-bei-ort
 hopaedischen-problemen-gruppe-5_id299053
DTSTART;TZID=Europe/Berlin:20260806T201500
DTEND;TZID=Europe/Berlin:20260806T210000
LOCATION:Sportzentrum\, Pfarrer-Bogner-Straße 22\, 86199 Augsburg
END:VEVENT
END:VCALENDAR
