BEGIN:VCALENDAR
VERSION:2.0
PRODID:-//Sabre//Sabre VObject 4.5.8//EN
CALSCALE:GREGORIAN
BEGIN:VEVENT
UID:sabre-vobject-eda62f0f-dadc-4adc-b21e-709b7409e163
DTSTAMP:20260420T174051Z
SUMMARY:Gymnastik bei orthopädischen Problemen-Gruppe 5
DESCRIPTION:https://keb-stadt-augsburg.de/veranstaltungen/gymnastik-bei-ort
 hopaedischen-problemen-gruppe-5_id299045
DTSTART;TZID=Europe/Berlin:20260611T201500
DTEND;TZID=Europe/Berlin:20260611T210000
LOCATION:Sportzentrum\, Pfarrer-Bogner-Straße 22\, 86199 Augsburg
END:VEVENT
END:VCALENDAR
