BEGIN:VCALENDAR
VERSION:2.0
PRODID:-//Sabre//Sabre VObject 4.5.8//EN
CALSCALE:GREGORIAN
BEGIN:VEVENT
UID:sabre-vobject-39a6fafc-01a6-4ab0-bf5a-00660201b17f
DTSTAMP:20260420T010737Z
SUMMARY:Gymnastik bei orthopädischen Problemen-Gruppe 5
DESCRIPTION:https://keb-stadt-augsburg.de/veranstaltungen/gymnastik-bei-ort
 hopaedischen-problemen-gruppe-5_id299039
DTSTART;TZID=Europe/Berlin:20260430T201500
DTEND;TZID=Europe/Berlin:20260430T210000
LOCATION:Sportzentrum\, Pfarrer-Bogner-Straße 22\, 86199 Augsburg
END:VEVENT
END:VCALENDAR
