BEGIN:VCALENDAR
VERSION:2.0
PRODID:-//Sabre//Sabre VObject 4.5.8//EN
CALSCALE:GREGORIAN
BEGIN:VEVENT
UID:sabre-vobject-ba451024-42b2-477a-bd52-d08a3d601d09
DTSTAMP:20260422T005708Z
SUMMARY:Gymnastik bei orthopädischen Problemen-Gruppe 4
DESCRIPTION:https://keb-stadt-augsburg.de/veranstaltungen/gymnastik-bei-ort
 hopaedischen-problemen-gruppe-4_id299003
DTSTART;TZID=Europe/Berlin:20260902T163000
DTEND;TZID=Europe/Berlin:20260902T171500
LOCATION:Sportzentrum\, Pfarrer-Bogner-Straße 22\, 86199 Augsburg
END:VEVENT
END:VCALENDAR
