BEGIN:VCALENDAR
VERSION:2.0
PRODID:-//Sabre//Sabre VObject 4.5.8//EN
CALSCALE:GREGORIAN
BEGIN:VEVENT
UID:sabre-vobject-d7236d05-92d8-48b3-bfd9-f21503de3c3e
DTSTAMP:20260421T153536Z
SUMMARY:Gymnastik bei orthopädischen Problemen-Gruppe 4
DESCRIPTION:https://keb-stadt-augsburg.de/veranstaltungen/gymnastik-bei-ort
 hopaedischen-problemen-gruppe-4_id299000
DTSTART;TZID=Europe/Berlin:20260812T163000
DTEND;TZID=Europe/Berlin:20260812T171500
LOCATION:Sportzentrum\, Pfarrer-Bogner-Straße 22\, 86199 Augsburg
END:VEVENT
END:VCALENDAR
