BEGIN:VCALENDAR
VERSION:2.0
PRODID:-//Sabre//Sabre VObject 4.5.8//EN
CALSCALE:GREGORIAN
BEGIN:VEVENT
UID:sabre-vobject-ac6d8220-4096-4dee-9f65-4f97316639e9
DTSTAMP:20260421T140041Z
SUMMARY:Gymnastik bei orthopädischen Problemen-Gruppe 4
DESCRIPTION:https://keb-stadt-augsburg.de/veranstaltungen/gymnastik-bei-ort
 hopaedischen-problemen-gruppe-4_id298999
DTSTART;TZID=Europe/Berlin:20260805T163000
DTEND;TZID=Europe/Berlin:20260805T171500
LOCATION:Sportzentrum\, Pfarrer-Bogner-Straße 22\, 86199 Augsburg
END:VEVENT
END:VCALENDAR
