BEGIN:VCALENDAR
VERSION:2.0
PRODID:-//Sabre//Sabre VObject 4.5.8//EN
CALSCALE:GREGORIAN
BEGIN:VEVENT
UID:sabre-vobject-bda870e0-86d9-4296-8e49-a82ea1e49ec2
DTSTAMP:20260421T033742Z
SUMMARY:Gymnastik bei orthopädischen Problemen-Gruppe 4
DESCRIPTION:https://keb-stadt-augsburg.de/veranstaltungen/gymnastik-bei-ort
 hopaedischen-problemen-gruppe-4_id298995
DTSTART;TZID=Europe/Berlin:20260708T163000
DTEND;TZID=Europe/Berlin:20260708T171500
LOCATION:Sportzentrum\, Pfarrer-Bogner-Straße 22\, 86199 Augsburg
END:VEVENT
END:VCALENDAR
