BEGIN:VCALENDAR
VERSION:2.0
PRODID:-//Sabre//Sabre VObject 4.5.8//EN
CALSCALE:GREGORIAN
BEGIN:VEVENT
UID:sabre-vobject-acd63039-c2f4-4e3e-a8f7-1e8a21bf5ad7
DTSTAMP:20260420T190638Z
SUMMARY:Gymnastik bei orthopädischen Problemen-Gruppe 4
DESCRIPTION:https://keb-stadt-augsburg.de/veranstaltungen/gymnastik-bei-ort
 hopaedischen-problemen-gruppe-4_id298992
DTSTART;TZID=Europe/Berlin:20260617T163000
DTEND;TZID=Europe/Berlin:20260617T171500
LOCATION:Sportzentrum\, Pfarrer-Bogner-Straße 22\, 86199 Augsburg
END:VEVENT
END:VCALENDAR
