BEGIN:VCALENDAR
VERSION:2.0
PRODID:-//Sabre//Sabre VObject 4.5.8//EN
CALSCALE:GREGORIAN
BEGIN:VEVENT
UID:sabre-vobject-b7cff917-3223-4d85-b977-6a47cdfb326c
DTSTAMP:20260421T231111Z
SUMMARY:Gymnastik bei orthopädischen Problemen-Gruppe 3
DESCRIPTION:https://keb-stadt-augsburg.de/veranstaltungen/gymnastik-bei-ort
 hopaedischen-problemen-gruppe-3_id298950
DTSTART;TZID=Europe/Berlin:20260902T090000
DTEND;TZID=Europe/Berlin:20260902T094500
LOCATION:Sportzentrum\, Pfarrer-Bogner-Straße 22\, 86199 Augsburg
END:VEVENT
END:VCALENDAR
