BEGIN:VCALENDAR
VERSION:2.0
PRODID:-//Sabre//Sabre VObject 4.5.8//EN
CALSCALE:GREGORIAN
BEGIN:VEVENT
UID:sabre-vobject-0914247d-cd13-439c-b745-7c87787bc8df
DTSTAMP:20260421T052447Z
SUMMARY:Gymnastik bei orthopädischen Problemen-Gruppe 3
DESCRIPTION:https://keb-stadt-augsburg.de/veranstaltungen/gymnastik-bei-ort
 hopaedischen-problemen-gruppe-3_id298943
DTSTART;TZID=Europe/Berlin:20260715T090000
DTEND;TZID=Europe/Berlin:20260715T094500
LOCATION:Sportzentrum\, Pfarrer-Bogner-Straße 22\, 86199 Augsburg
END:VEVENT
END:VCALENDAR
