BEGIN:VCALENDAR
VERSION:2.0
PRODID:-//Sabre//Sabre VObject 4.5.8//EN
CALSCALE:GREGORIAN
BEGIN:VEVENT
UID:sabre-vobject-38f02cf1-f387-4e29-a94c-a6204d1a9724
DTSTAMP:20260420T205635Z
SUMMARY:Gymnastik bei orthopädischen Problemen-Gruppe 2
DESCRIPTION:https://keb-stadt-augsburg.de/veranstaltungen/gymnastik-bei-ort
 hopaedischen-problemen-gruppe-2_id298887
DTSTART;TZID=Europe/Berlin:20260623T170000
DTEND;TZID=Europe/Berlin:20260623T174500
LOCATION:Sportzentrum\, Pfarrer-Bogner-Straße 22\, 86199 Augsburg
END:VEVENT
END:VCALENDAR
