BEGIN:VCALENDAR
VERSION:2.0
PRODID:-//Sabre//Sabre VObject 4.5.8//EN
CALSCALE:GREGORIAN
BEGIN:VEVENT
UID:sabre-vobject-b55a8a95-4ed8-4b6f-a1a6-7e326dfdcb97
DTSTAMP:20260420T075952Z
SUMMARY:Gymnastik bei orthopädischen Problemen-Gruppe 2
DESCRIPTION:https://keb-stadt-augsburg.de/veranstaltungen/gymnastik-bei-ort
 hopaedischen-problemen-gruppe-2_id298882
DTSTART;TZID=Europe/Berlin:20260519T170000
DTEND;TZID=Europe/Berlin:20260519T174500
LOCATION:Sportzentrum\, Pfarrer-Bogner-Straße 22\, 86199 Augsburg
END:VEVENT
END:VCALENDAR
