BEGIN:VCALENDAR
VERSION:2.0
PRODID:-//Sabre//Sabre VObject 4.5.8//EN
CALSCALE:GREGORIAN
BEGIN:VEVENT
UID:sabre-vobject-28988a96-35b1-46f5-b9d8-1e27dd2b4a3f
DTSTAMP:20260423T110734Z
SUMMARY:Ballett für Erwachsene Mittelstufe
DESCRIPTION:https://keb-stadt-augsburg.de/veranstaltungen/ballett-fuer-erwa
 chsene-mittelstufe_id298844
DTSTART;TZID=Europe/Berlin:20260901T184500
DTEND;TZID=Europe/Berlin:20260901T200000
LOCATION:Sportzentrum\, Pfarrer-Bogner-Straße 22\, 86199 Augsburg
END:VEVENT
END:VCALENDAR
