BEGIN:VCALENDAR
VERSION:2.0
PRODID:-//Sabre//Sabre VObject 4.5.8//EN
CALSCALE:GREGORIAN
BEGIN:VEVENT
UID:sabre-vobject-7114e3cc-3409-4de6-86af-2085871bbe3f
DTSTAMP:20260421T154544Z
SUMMARY:Ballett für Erwachsene Mittelstufe
DESCRIPTION:https://keb-stadt-augsburg.de/veranstaltungen/ballett-fuer-erwa
 chsene-mittelstufe_id298841
DTSTART;TZID=Europe/Berlin:20260811T184500
DTEND;TZID=Europe/Berlin:20260811T200000
LOCATION:Sportzentrum\, Pfarrer-Bogner-Straße 22\, 86199 Augsburg
END:VEVENT
END:VCALENDAR
