BEGIN:VCALENDAR
VERSION:2.0
PRODID:-//Sabre//Sabre VObject 4.5.8//EN
CALSCALE:GREGORIAN
BEGIN:VEVENT
UID:sabre-vobject-0c8d76b4-eb96-41b1-8f8c-c911bf382019
DTSTAMP:20260421T104407Z
SUMMARY:Ballett für Erwachsene Mittelstufe
DESCRIPTION:https://keb-stadt-augsburg.de/veranstaltungen/ballett-fuer-erwa
 chsene-mittelstufe_id298839
DTSTART;TZID=Europe/Berlin:20260728T184500
DTEND;TZID=Europe/Berlin:20260728T200000
LOCATION:Sportzentrum\, Pfarrer-Bogner-Straße 22\, 86199 Augsburg
END:VEVENT
END:VCALENDAR
